BEGIN:VCALENDAR
VERSION:2.0
PRODID:-//Norges Kyokushin Organisasjon - ECPv6.15.18//NONSGML v1.0//EN
CALSCALE:GREGORIAN
METHOD:PUBLISH
X-ORIGINAL-URL:https://www.nko.no
X-WR-CALDESC:Arrangement for Norges Kyokushin Organisasjon
REFRESH-INTERVAL;VALUE=DURATION:PT1H
X-Robots-Tag:noindex
X-PUBLISHED-TTL:PT1H
BEGIN:VTIMEZONE
TZID:Europe/Oslo
BEGIN:DAYLIGHT
TZOFFSETFROM:+0100
TZOFFSETTO:+0200
TZNAME:CEST
DTSTART:20200329T010000
END:DAYLIGHT
BEGIN:STANDARD
TZOFFSETFROM:+0200
TZOFFSETTO:+0100
TZNAME:CET
DTSTART:20201025T010000
END:STANDARD
BEGIN:DAYLIGHT
TZOFFSETFROM:+0100
TZOFFSETTO:+0200
TZNAME:CEST
DTSTART:20210328T010000
END:DAYLIGHT
BEGIN:STANDARD
TZOFFSETFROM:+0200
TZOFFSETTO:+0100
TZNAME:CET
DTSTART:20211031T010000
END:STANDARD
BEGIN:DAYLIGHT
TZOFFSETFROM:+0100
TZOFFSETTO:+0200
TZNAME:CEST
DTSTART:20220327T010000
END:DAYLIGHT
BEGIN:STANDARD
TZOFFSETFROM:+0200
TZOFFSETTO:+0100
TZNAME:CET
DTSTART:20221030T010000
END:STANDARD
END:VTIMEZONE
BEGIN:VEVENT
DTSTART;TZID=Europe/Oslo:20211023T120000
DTEND;TZID=Europe/Oslo:20211024T140000
DTSTAMP:20260425T194216
CREATED:20211017T100046Z
LAST-MODIFIED:20211017T101211Z
UID:1865-1634990400-1635084000@www.nko.no
SUMMARY:U-samling oktober 2021 - region øst
DESCRIPTION:Instruktører \n\nMagnus Hanssen\nRasmus Bergström\n\nLørdag og søndag 23. og 24. oktober er det samling for U-klassene U-21\,U18 og U-16. Temaet er rettet mot fight / konkurranse. \nStart kl. 12.00\, lørdag\, med påfølgende økter ut dagen. Lørdag kveld er satt av til sosiale aktiviteter. \nSøndagens trening starter kl. 10:00 med påfølgende økter. Avslutning er tenkt innen 14:00. \nPris: 50\,- (inkluderer lett lunch begge dager) \nOvernatting: Horten Dojo\, Kommandør Ottos gate 12A\, 3189 Horten eller hotell.\nKontakt Bård Brodshaug bbrodshaug@hotmail.com \nTreningssted: Sentrum Skole\, – Sentroveien 15\, 3182 Horten \nDel dette:\n				Send en lenke på e-post til en venn(åpnes i en ny fane)\n				E-post\n			\n				Del på Facebook(åpnes i en ny fane)\n				Facebook\n			\n				Del på X(åpnes i en ny fane)\n				X\n			\n				Skriv ut(åpnes i en ny fane)\n				Skriv ut
URL:https://www.nko.no/hendelse/u-samling-oktober-2021-region-ost/
LOCATION:Sentrum skole\, Sentroveien 15\, Horten\, 3182\, Norge
CATEGORIES:Region øst,Treningssamling,U-samling
ATTACH;FMTTYPE=image/jpeg:https://www.nko.no/wp-content/uploads/2021/10/72DC0098-D0CC-42A5-AFB0-EAC166374B2D.jpeg
END:VEVENT
END:VCALENDAR