BEGIN:VCALENDAR
VERSION:2.0
PRODID:-//Norges Kyokushin Organisasjon - ECPv6.15.18//NONSGML v1.0//EN
CALSCALE:GREGORIAN
METHOD:PUBLISH
X-WR-CALNAME:Norges Kyokushin Organisasjon
X-ORIGINAL-URL:https://www.nko.no
X-WR-CALDESC:Arrangement for Norges Kyokushin Organisasjon
REFRESH-INTERVAL;VALUE=DURATION:PT1H
X-Robots-Tag:noindex
X-PUBLISHED-TTL:PT1H
BEGIN:VTIMEZONE
TZID:Europe/Oslo
BEGIN:DAYLIGHT
TZOFFSETFROM:+0100
TZOFFSETTO:+0200
TZNAME:CEST
DTSTART:20240331T010000
END:DAYLIGHT
BEGIN:STANDARD
TZOFFSETFROM:+0200
TZOFFSETTO:+0100
TZNAME:CET
DTSTART:20241027T010000
END:STANDARD
BEGIN:DAYLIGHT
TZOFFSETFROM:+0100
TZOFFSETTO:+0200
TZNAME:CEST
DTSTART:20250330T010000
END:DAYLIGHT
BEGIN:STANDARD
TZOFFSETFROM:+0200
TZOFFSETTO:+0100
TZNAME:CET
DTSTART:20251026T010000
END:STANDARD
BEGIN:DAYLIGHT
TZOFFSETFROM:+0100
TZOFFSETTO:+0200
TZNAME:CEST
DTSTART:20260329T010000
END:DAYLIGHT
BEGIN:STANDARD
TZOFFSETFROM:+0200
TZOFFSETTO:+0100
TZNAME:CET
DTSTART:20261025T010000
END:STANDARD
END:VTIMEZONE
BEGIN:VEVENT
DTSTART;VALUE=DATE:20250315
DTEND;VALUE=DATE:20250317
DTSTAMP:20260425T184410
CREATED:20241227T074626Z
LAST-MODIFIED:20250314T113732Z
UID:3517-1741996800-1742169599@www.nko.no
SUMMARY:Årsting og treningssamling 2025
DESCRIPTION:Årsting og treningssamling 2025 \n12:00-13:30 Trening\nEnkel lunsj mellom øktene\n14:00-15:30 Trening\n16:30-18:30 Årsmøte\n19:00- Middag \nÅrsting \nÅrsting for NKO vil bli avholdt på Clarion Hotel Ernst\, Rådhusgata 2\, 4664 Kristiansand\, lørdag den 15. mars 2025 kl. 16:30. \n. \nDel dette:\n				Send en lenke på e-post til en venn(åpnes i en ny fane)\n				E-post\n			\n				Del på Facebook(åpnes i en ny fane)\n				Facebook\n			\n				Del på X(åpnes i en ny fane)\n				X\n			\n				Skriv ut(åpnes i en ny fane)\n				Skriv ut
URL:https://www.nko.no/hendelse/arsting-og-treningssamling-2025/
LOCATION:Lauvåsen Kyokushin Karate\, Norway
CATEGORIES:Årsmøte,Treningssamling
ATTACH;FMTTYPE=image/jpeg:https://www.nko.no/wp-content/uploads/2024/12/465799302_871465275099423_1175080495843712224_n.jpg
END:VEVENT
END:VCALENDAR