BEGIN:VCALENDAR
VERSION:2.0
PRODID:-//Norges Kyokushin Organisasjon - ECPv6.15.18//NONSGML v1.0//EN
CALSCALE:GREGORIAN
METHOD:PUBLISH
X-WR-CALNAME:Norges Kyokushin Organisasjon
X-ORIGINAL-URL:https://www.nko.no
X-WR-CALDESC:Arrangement for Norges Kyokushin Organisasjon
REFRESH-INTERVAL;VALUE=DURATION:PT1H
X-Robots-Tag:noindex
X-PUBLISHED-TTL:PT1H
BEGIN:VTIMEZONE
TZID:Europe/Oslo
BEGIN:DAYLIGHT
TZOFFSETFROM:+0100
TZOFFSETTO:+0200
TZNAME:CEST
DTSTART:20250330T010000
END:DAYLIGHT
BEGIN:STANDARD
TZOFFSETFROM:+0200
TZOFFSETTO:+0100
TZNAME:CET
DTSTART:20251026T010000
END:STANDARD
BEGIN:DAYLIGHT
TZOFFSETFROM:+0100
TZOFFSETTO:+0200
TZNAME:CEST
DTSTART:20260329T010000
END:DAYLIGHT
BEGIN:STANDARD
TZOFFSETFROM:+0200
TZOFFSETTO:+0100
TZNAME:CET
DTSTART:20261025T010000
END:STANDARD
BEGIN:DAYLIGHT
TZOFFSETFROM:+0100
TZOFFSETTO:+0200
TZNAME:CEST
DTSTART:20270328T010000
END:DAYLIGHT
BEGIN:STANDARD
TZOFFSETFROM:+0200
TZOFFSETTO:+0100
TZNAME:CET
DTSTART:20271031T010000
END:STANDARD
END:VTIMEZONE
BEGIN:VEVENT
DTSTART;VALUE=DATE:20260313
DTEND;VALUE=DATE:20260316
DTSTAMP:20260425T143317
CREATED:20260213T152708Z
LAST-MODIFIED:20260213T152708Z
UID:4369-1773360000-1773619199@www.nko.no
SUMMARY:EKO Black Belt seminar
DESCRIPTION:The EKO Black Belt seminar 2024 will take place from 13th-15th of March. \ne hope we will be as many students as last year’s 250 participants from more that 17 country members of EKO. \nAs mentioned in the Referee Newsletter\, 2026 will be an important year for not only Woman fighters to be selected for the Woman’s Open Karate World Championship 2027\, but also for the Kata competitors to be selected for the World Karate Kata Championship 2027. \nStara Wieś is a great opportunity to be coached and taught by some of the leading instructors in EKO & WKO. \nJoin and be as prepared as possible for the first selection championship in Batumi\, Georgia. \nThe EKO Black Belt seminar is more than preparation for qualifying to the World Championship\, it is also an opportunity for everybody to train together\, improve your skills and have a great time with friends from all over EKO. \nKey information about the Black belt Seminar: \nDate: March 13th–15th 2026\nLocation: Dojo Stara Wieś\, Poland\nSchedule: The first training session starts on March 13 at 4:00 PM.\nRegistration: Applications are accepted exclusively via the online form: https://shinkyokushin.org.pl/seminar. \nParticipation Costs (Full board included): \nParticipant House: € 340.00\nParticipant Agro-accommodation: € 310.00\nParticipant Dojo (standard): € 290.00 \nDel dette:\n				Send en lenke på e-post til en venn(åpnes i en ny fane)\n				E-post\n			\n				Del på Facebook(åpnes i en ny fane)\n				Facebook\n			\n				Del på X(åpnes i en ny fane)\n				X\n			\n				Skriv ut(åpnes i en ny fane)\n				Skriv ut
URL:https://www.nko.no/hendelse/eko-black-belt-seminar/
LOCATION:Dojo Stara Wieś\, Stara Wieś 1\, Przedbórz\, Radomsko County\, 97-570\, Poland
CATEGORIES:Treningssamling
ATTACH;FMTTYPE=image/webp:https://www.nko.no/wp-content/uploads/2026/02/dojo_stara_wies.webp
ORGANIZER;CN="EKO":MAILTO:ekogeneralsecretary@gmail.com
END:VEVENT
BEGIN:VEVENT
DTSTART;VALUE=DATE:20260314
DTEND;VALUE=DATE:20260315
DTSTAMP:20260425T143317
CREATED:20251027T141329Z
LAST-MODIFIED:20251208T084846Z
UID:4081-1773446400-1773532799@www.nko.no
SUMMARY:NM Fullkontakt 2026
DESCRIPTION:VELKOMMEN TIL NM I FULLKONTAKT KARATE 2026 \nBryne Karateklubb ønsker sammen med Gandsfjord Karateklubb og Norgeskampsportforbund velkommen til årets Norgesmesterskap 2026!Kjære publikum\, deltakere\, dommere\, trenere og andre kampsportvenner.Vi har gleden av å invitere dere til årets Norgesmesterskap i Fullkontakt Karate\, et av de størsteog mest prestisjefylte arrangementene innen norsk karate. Dette er dagen hvor landetssterkeste\, mest dedikerte og tekniske utøvere møtes for å kjempe om NM-titlene – og vise fram den ekte ånden i fullkontakt karate. \nEt Norgesmesterskap står og faller ikke bare på utøverne. Dommere og funksjonærer stiller med erfaring\, konsentrasjon og integritet – og uten deres innsats ville NM rett og slett ikke vært mulig. De sikrer at kampene gjennomføres rettferdig\, trygt og med respekt for reglene og idrettens verdier. \nPublikum spiller også en avgjørende rolle. Deres støtte\, energi og entusiasme løfter stemningen i hallen og gir utøverne motet og drivkraften de trenger i kampens hete. Engasjert og respektfull oppførsel bidrar til en opplevelse alle kan være stolte av. \nVi ønsker derfor alle hjertelig velkommen – både på og utenfor matta.  \n  \n(hentet fra https://www.facebook.com/events/1510247260181167 den 8.12.25 kl. 09:50) \nDel dette:\n				Send en lenke på e-post til en venn(åpnes i en ny fane)\n				E-post\n			\n				Del på Facebook(åpnes i en ny fane)\n				Facebook\n			\n				Del på X(åpnes i en ny fane)\n				X\n			\n				Skriv ut(åpnes i en ny fane)\n				Skriv ut
URL:https://www.nko.no/hendelse/nm-fullkontakt-2026/
LOCATION:Timehallen\, Trallfaveien 4\, Bryne\, 4340\, Norge
CATEGORIES:Turnering
ATTACH;FMTTYPE=image/jpeg:https://www.nko.no/wp-content/uploads/2025/10/NM2026.jpg
ORGANIZER;CN="Norges Kampsportforbund / Bryne Karate Klubb":MAILTO:stigjakobsen63@gmail.com
END:VEVENT
END:VCALENDAR