BEGIN:VCALENDAR
VERSION:2.0
PRODID:-//Norges Kyokushin Organisasjon - ECPv6.15.18//NONSGML v1.0//EN
CALSCALE:GREGORIAN
METHOD:PUBLISH
X-ORIGINAL-URL:https://www.nko.no
X-WR-CALDESC:Arrangement for Norges Kyokushin Organisasjon
REFRESH-INTERVAL;VALUE=DURATION:PT1H
X-Robots-Tag:noindex
X-PUBLISHED-TTL:PT1H
BEGIN:VTIMEZONE
TZID:Europe/Oslo
BEGIN:DAYLIGHT
TZOFFSETFROM:+0100
TZOFFSETTO:+0200
TZNAME:CEST
DTSTART:20250330T010000
END:DAYLIGHT
BEGIN:STANDARD
TZOFFSETFROM:+0200
TZOFFSETTO:+0100
TZNAME:CET
DTSTART:20251026T010000
END:STANDARD
BEGIN:DAYLIGHT
TZOFFSETFROM:+0100
TZOFFSETTO:+0200
TZNAME:CEST
DTSTART:20260329T010000
END:DAYLIGHT
BEGIN:STANDARD
TZOFFSETFROM:+0200
TZOFFSETTO:+0100
TZNAME:CET
DTSTART:20261025T010000
END:STANDARD
BEGIN:DAYLIGHT
TZOFFSETFROM:+0100
TZOFFSETTO:+0200
TZNAME:CEST
DTSTART:20270328T010000
END:DAYLIGHT
BEGIN:STANDARD
TZOFFSETFROM:+0200
TZOFFSETTO:+0100
TZNAME:CET
DTSTART:20271031T010000
END:STANDARD
END:VTIMEZONE
BEGIN:VEVENT
DTSTART;VALUE=DATE:20260509
DTEND;VALUE=DATE:20260511
DTSTAMP:20260423T131454
CREATED:20260213T154118Z
LAST-MODIFIED:20260213T154210Z
UID:4374-1778284800-1778457599@www.nko.no
SUMMARY:2026 European Karate Championship for Adults and Juniors J18
DESCRIPTION:Deadline for National Teams\, Officials\, Referees and others registration 06.04.2026 \nEC-2026 in Georgia also is the 1st selection for WC 2027 in Kata (Men and Women). 2nd selection will be at the EC-2026 in Latvia 3-4 of October.\nPreliminary Schedule\n  \n07.05.2026 Thursday: \nArrival of Participants\,Officials and Country Delegations \n13:30 –Referee Course registration: \nAll referee of categories EKO-C\, B and A in both Kumite and Kata are welcome. New referees are also welcome and must have its countries highest national license and a recommendation from its Country Representative. The championship is held in two day and on 3 tatamis. \nThe Referee Course is compulsory for referees who apply for new or refresh license. Participation in referee uniform. \nThe course ends with a written test. For that you need a smart phone or a computer. The test is in English. \nAll rules\, regulations and license validity to study can be downloaded from https://www.european-kyokushin.org / \,or https://ekoreferees.eu/  \nReferee application for the Referee Course and EC participationMust be done on www.ekoreferees.eu. \nRegistration of referees on https://kumitetechnology.com/en/tournament/268/ . This is for notification to the organizer. \nNew license is 50€ and refresh license is 25€\, this can be paid by card or cash at the registration before the course. \n14:00 –20:00 Referee Course \nParticipate shall bring all documents (from EKO Homepage)\, be in referee uniform and with whistle. The theory test will be done online\, bring a smart phone or laptop for internet connection (WiFi is provided). \n08.05.2026 Friday: \n10:00 – 18:00 Weight and Medical control\n10:00 – 15:00 EKO Committees and Board meetings\n16:00 – 18:00 Referee registration and meeting (participation in referee uniform)\n18:30 – 19:00 Coach registration and meeting (Coach participation fee: 40 Euro). All coaches must have a valid Coach Test from 2023\, 2024 or 2025. The test is done online on an individual base. Link for this year’s test: https://forms.gle/iL9zBJa2oN9h8zC3A  \n19:00 –19:30Draws; \n20:00 –Official Welcome Reception on behalf of the Host Country\, GFKNF\, and the Ministry of Sport of Georgia.(By Invitation only! Dress Code –Official) \n09.05.2026 Saturday: \n1stChampionships Day \n09:00–18:00 1st Championships Day: All categories Kata and Juniors J18 Kumite\n20:00 EKO General Meeting \n10.05.2026 Sunday:  \n2nd Championships Day\n09:00 –18:00 2nd Championships day: Adults Kumite\n20:00 Sayonara Party (18+) \n11.05.2026 Monday: \n11:00 – Check-out and Departure. \nOFFICIAL HOTELS \nGRAND BELLAGIO HOTEL & CASINO BATUMI\, opened: 2019: 3 Lech and Maria Kaczynski St\, Batumi\, Georgia \nWhite Sails Residential Hotel\, opened: 2020: 5 Lech and Maria Kaczynski St Batumi\, Georgia \n100 € night/per person in SINGLE room\n60 € night/per person in TWIN (DBL) room\n55 € night/per person in TRIPLE room with breakfast\, including: \n• 2 days transfers Hotel-Sport Palace-Hotel\n• Sayonara Party (For Adults only)\n• Entrance to the competition venue\, with the Accreditation Card \nFinancial conditions: \n• Accommodation\, flight tickets\, transportation and meals for all participants shall be covered byParticipating Country Organization or Club or participant himself;\n• EKO participation fee – 80 € per each participant; – 40 € per each coach \nAll payments should be paid to EKO by bank transfer\nIBAN: NL78RABO0103302778\nBIC Code: RABONL2U\nBank: Rabobank Netherlands Stationsweg 5\, 8911AG\, Leeuwarden\, Netherlands\nIn name of: European Karate Organization \n• Special accommodation and European Championships package price is valid for stay minimum 3 nights; \n• The Official Hotel must be booked 06.02 – 06.04.2026 otherwise we cannot guarantee that there will be place; \n• For staying in other hotels: Sayonara Party ticket-50 €; \n• Airport Transfer: from/to Batumi International Airport – Official Hotel is Free; \n• From/to Kutaisi (150 km.) or Tbilisi (400 km.) International Airport-Official Hotel is based on individual arrival/departure schedule and number of passengers \n• Reservation for Hotel booking available from 06.02.2026; \n• Deadline for hotel booking and final confirmation 06.04.2026 \nAll Booking/Reservations and payments for accommodation and airport transfersshould be made directly to Trawellin’ Ltd before 06.04.2026 \n✓ Reservation for Hotel booking will be available from 06.02.2026\n✓ Deadline for Hotel booking and final confirmation 06.04.2026\n✓ All meetings\, Weight and Medical Control\, Referee Course and Sayonara Party will take place in the Official Hotel “Grand Bellagio Hotel Batumi” \nTrawellin’ Ltd\, 4 Iakob Nikoladze Str\, Tbilisi\, 0179 Georgia Tel.:  +995 32 229 20 90; \nValerian Meunargiavalerian@trawellin.ge;account@trawellin.geTel.(Cell): +995 57 779 53 79 \nAirport transfers and schedules: Zviad Zaalishvili -ziko_zaalishvili@hotmail.com: + 995 555 134 433 \nDel dette:\n				Send en lenke på e-post til en venn(åpnes i en ny fane)\n				E-post\n			\n				Del på Facebook(åpnes i en ny fane)\n				Facebook\n			\n				Del på X(åpnes i en ny fane)\n				X\n			\n				Skriv ut(åpnes i en ny fane)\n				Skriv ut
URL:https://www.nko.no/hendelse/2026-european-karate-championship-for-adults-and-juniors-j18/
LOCATION:Batumi Sports Palace\, Lado Asatiani N27\, Batumi\, Georgia
CATEGORIES:Turnering
ATTACH;FMTTYPE=image/png:https://www.nko.no/wp-content/uploads/2026/02/EM2026-Georgia.png
ORGANIZER;CN="EKO":MAILTO:ekogeneralsecretary@gmail.com
END:VEVENT
BEGIN:VEVENT
DTSTART;VALUE=DATE:20260618
DTEND;VALUE=DATE:20260622
DTSTAMP:20260423T131454
CREATED:20251012T103605Z
LAST-MODIFIED:20251012T103605Z
UID:4043-1781740800-1782086399@www.nko.no
SUMMARY:NKO sommerleir 2026
DESCRIPTION:Instruktører:Shihan Tadashi IshiharaShihan Camilla Bolin\n \nHold av datoen\, mer info kommer.\n \nTadashi Ishihara er en av Japans mest anerkjente karateinstruktører. Han er tidligere vinner av All Japan Open og verdensmester i vektklasse (1997)\, samt innehaver av en rekke andre meritter. Ishihara har representert Japan ved flere verdensmesterskap\, og fungerer i dag som landslagstrener for det japanske kumitelandslaget. Han er også dojo-operatør og Branch Chief for WKO Japan.\n \nCamilla Bolin startet med karate i 1981 og har konkurrert på høyt internasjonalt nivå i både kata og kumite. Hun har vunnet flere mesterskap\, blant annet gull og sølv i europamesterskap i begge disipliner. Etter sin aktive karriere fortsatte Bolin som landslagstrener. Hun er internasjonal dommer og instruktør ved Shihan Brian Fitkins dojo. I dag innehar hun stillingen som sportsdirektør for den svenske karateorganisasjonen. \nDel dette:\n				Send en lenke på e-post til en venn(åpnes i en ny fane)\n				E-post\n			\n				Del på Facebook(åpnes i en ny fane)\n				Facebook\n			\n				Del på X(åpnes i en ny fane)\n				X\n			\n				Skriv ut(åpnes i en ny fane)\n				Skriv ut
URL:https://www.nko.no/hendelse/nko-sommerleir-2026/
LOCATION:Kristiansand\, Norway
CATEGORIES:Sommerleir
ATTACH;FMTTYPE=image/jpeg:https://www.nko.no/wp-content/uploads/2025/10/NKO-summercamp-2026.jpg
ORGANIZER;CN="Lauv%C3%A5sen Kyokushin Karate":MAILTO:scerri@gmail.com
END:VEVENT
END:VCALENDAR